BEGIN:VCALENDAR
VERSION:2.0
PRODID:-//RocinanteBooks.com - ECPv6.8.3//NONSGML v1.0//EN
CALSCALE:GREGORIAN
METHOD:PUBLISH
X-ORIGINAL-URL:https://rocinantebooks.com
X-WR-CALDESC:Events for RocinanteBooks.com
REFRESH-INTERVAL;VALUE=DURATION:PT1H
X-Robots-Tag:noindex
X-PUBLISHED-TTL:PT1H
BEGIN:VTIMEZONE
TZID:America/New_York
BEGIN:DAYLIGHT
TZOFFSETFROM:-0500
TZOFFSETTO:-0400
TZNAME:EDT
DTSTART:20190310T070000
END:DAYLIGHT
BEGIN:STANDARD
TZOFFSETFROM:-0400
TZOFFSETTO:-0500
TZNAME:EST
DTSTART:20191103T060000
END:STANDARD
BEGIN:DAYLIGHT
TZOFFSETFROM:-0500
TZOFFSETTO:-0400
TZNAME:EDT
DTSTART:20200308T070000
END:DAYLIGHT
BEGIN:STANDARD
TZOFFSETFROM:-0400
TZOFFSETTO:-0500
TZNAME:EST
DTSTART:20201101T060000
END:STANDARD
BEGIN:DAYLIGHT
TZOFFSETFROM:-0500
TZOFFSETTO:-0400
TZNAME:EDT
DTSTART:20210314T070000
END:DAYLIGHT
BEGIN:STANDARD
TZOFFSETFROM:-0400
TZOFFSETTO:-0500
TZNAME:EST
DTSTART:20211107T060000
END:STANDARD
BEGIN:DAYLIGHT
TZOFFSETFROM:-0500
TZOFFSETTO:-0400
TZNAME:EDT
DTSTART:20220313T070000
END:DAYLIGHT
BEGIN:STANDARD
TZOFFSETFROM:-0400
TZOFFSETTO:-0500
TZNAME:EST
DTSTART:20221106T060000
END:STANDARD
BEGIN:DAYLIGHT
TZOFFSETFROM:-0500
TZOFFSETTO:-0400
TZNAME:EDT
DTSTART:20230312T070000
END:DAYLIGHT
BEGIN:STANDARD
TZOFFSETFROM:-0400
TZOFFSETTO:-0500
TZNAME:EST
DTSTART:20231105T060000
END:STANDARD
BEGIN:DAYLIGHT
TZOFFSETFROM:-0500
TZOFFSETTO:-0400
TZNAME:EDT
DTSTART:20240310T070000
END:DAYLIGHT
BEGIN:STANDARD
TZOFFSETFROM:-0400
TZOFFSETTO:-0500
TZNAME:EST
DTSTART:20241103T060000
END:STANDARD
END:VTIMEZONE
BEGIN:VEVENT
DTSTART;VALUE=DATE:20240725
DTEND;VALUE=DATE:20240729
DTSTAMP:20260424T123534
CREATED:20240610T102800Z
LAST-MODIFIED:20240610T102800Z
UID:2512-1721865600-1722211199@rocinantebooks.com
SUMMARY:Comic-Con San Diego
DESCRIPTION:Guys!! this will be my first year attending Comic-Con as a professional. (I was able to attend once with the DAW crew when Elisha Barber came out–so shout out to them as well!) As far as I  know\, I don’t have any official commitments\, so more time for gawking\, schmoozing\, costume admiration and checking out the swag. And maybe trying to identify Adam Savage\, in costume! What do you think? \nYou have to get a membership far in advance\, but there’s lots of cool stuff to see and do outside the convention center as well!
URL:https://rocinantebooks.com/event/comic-con-san-diego/
LOCATION:San Diego Convention Center
CATEGORIES:Convention
END:VEVENT
BEGIN:VEVENT
DTSTART;VALUE=DATE:20240712
DTEND;VALUE=DATE:20240715
DTSTAMP:20260424T123534
CREATED:20240610T102250Z
LAST-MODIFIED:20240610T102250Z
UID:2510-1720742400-1721001599@rocinantebooks.com
SUMMARY:Readercon
DESCRIPTION:Hey\, fans and friends! I’ll be at Readercon this year\, selling in the dealer’s room\, talking on panels\, and generally hanging out with my science fiction and fantasy peeps! I’d love to see you there! \nLikely have a reading\, maybe 2!
URL:https://rocinantebooks.com/event/readercon/
LOCATION:NC
CATEGORIES:Convention,Group Reading
END:VEVENT
BEGIN:VEVENT
DTSTART;VALUE=DATE:20240705
DTEND;VALUE=DATE:20240708
DTSTAMP:20260424T123534
CREATED:20240610T103603Z
LAST-MODIFIED:20240610T103603Z
UID:2515-1720137600-1720396799@rocinantebooks.com
SUMMARY:Endwar: giant nerf blaster event
DESCRIPTION:Portrait of the author as a nerfer\nEver tried foam dart blaster tag? I wasn’t expecting to enjoy it as much as I do! I’ll be out there on the field at Endwar\, a multi-faceted blaster tag event with a tournament\, foamcon vendors\, and HvZ–that’s Humans versus Zombies\, where\, if you get tagged by a zombie\, you turn and then run with the zeds! My blaster squad is the Bone Guard\, after the team in my thriller series. Come play with us!  The event is free. This year\, it’s at the University of North Carolina\, Charlotte
URL:https://rocinantebooks.com/event/endwar-giant-nerf-blaster-event/
LOCATION:UNCC\, 8845 Craver Road\, Charlotte\, NC\, United States
CATEGORIES:Blaster Tag
END:VEVENT
BEGIN:VEVENT
DTSTART;TZID=America/New_York:20231117T170000
DTEND;TZID=America/New_York:20231117T190000
DTSTAMP:20260424T123534
CREATED:20231020T104202Z
LAST-MODIFIED:20231020T104202Z
UID:2503-1700240400-1700247600@rocinantebooks.com
SUMMARY:Murder Most Foul\, Manchester\, NH
DESCRIPTION:Join me and debut mystery author Kim Shapiro\, along with two more special guests to talk about mystery and thriller writing in the Granite State!
URL:https://rocinantebooks.com/event/murder-most-foul-manchester-nh/
LOCATION:Bookery\, 844 Elm Street\, Manchester\, NH\, 03101\, United States
CATEGORIES:Book Introduction,Group Reading
END:VEVENT
BEGIN:VEVENT
DTSTART;TZID=America/New_York:20231104T150000
DTEND;TZID=America/New_York:20231104T170000
DTSTAMP:20260424T123534
CREATED:20231020T103840Z
LAST-MODIFIED:20231020T103840Z
UID:2498-1699110000-1699117200@rocinantebooks.com
SUMMARY:Murder Most Foul! New Hampshire Author Panel
DESCRIPTION:Join me and three other New Hampshire mystery and thriller authors as we talk about our process and inspirations! \nWe’ll be at Balin Books\, Somerset Plaza\, Nashua on November 4th\, at 3 pm
URL:https://rocinantebooks.com/event/murder-most-foul-new-hampshire-author-panel/
LOCATION:Balin Bookshop\, Nashua\, NH\, Somerset Plaza\, Rte. 101A\, Nashua\, NH\, 03063\, United States
CATEGORIES:Group Reading
END:VEVENT
BEGIN:VEVENT
DTSTART;TZID=America/New_York:20230414T190000
DTEND;TZID=America/New_York:20230414T210000
DTSTAMP:20260424T123534
CREATED:20230401T102447Z
LAST-MODIFIED:20230401T102447Z
UID:2469-1681498800-1681506000@rocinantebooks.com
SUMMARY:Bone Guard Book Launch Blaster Bash!
DESCRIPTION:Join me and the rest of the Bone Guard blaster squad for an evening of foam-flinging fun to celebrate the release of The Fascist Frame!  April 14\, from 7 to 9 pm at Thrive Outdoors\, 190 Elm St. Manchester\, NH (Thrive isn’t visible from street level\, you’ll see a giant Dunkin sign\, and a driveway that dips down on that end) \nThere will be a reading and chat about the book\, then a series of Bone Guard themed games. Play along\, or just watch the fun! All of the novels will be available for purchase and signing!
URL:https://rocinantebooks.com/event/bone-guard-book-launch-blaster-bash/
LOCATION:Thrive Outdoors\, 190 Elm Street\, Manchester\, NH\, 03101\, United States
CATEGORIES:Book Introduction,Solo Reading
END:VEVENT
BEGIN:VEVENT
DTSTART;TZID=America/New_York:20230225T140000
DTEND;TZID=America/New_York:20230225T163000
DTSTAMP:20260424T123534
CREATED:20230201T105059Z
LAST-MODIFIED:20230201T105059Z
UID:2456-1677333600-1677342600@rocinantebooks.com
SUMMARY:A Wreck of Dragons Launch Party!
DESCRIPTION:“Pacific Rim” meets “How to Train your Dragon” in this thrilling science fiction adventure!  Teens partner with giant robots to find a new home for humanity among the stars–but the goldilocks planet they discover is already claimed by the dragons. \nJoin Elaine for a reading and signing at Balin Books (formerly Toadstool Books) Somerset Plaza\, Nashua\, NH on February 25th at 2 pm!
URL:https://rocinantebooks.com/event/a-wreck-of-dragons-launch-party/
LOCATION:Balin Bookshop\, Nashua\, NH\, Somerset Plaza\, Rte. 101A\, Nashua\, NH\, 03063\, United States
CATEGORIES:Book Introduction,Solo Reading
END:VEVENT
BEGIN:VEVENT
DTSTART;VALUE=DATE:20230218
DTEND;VALUE=DATE:20230221
DTSTAMP:20260424T123534
CREATED:20230201T105414Z
LAST-MODIFIED:20230201T105414Z
UID:2459-1676678400-1676937599@rocinantebooks.com
SUMMARY:Boskone convention appearance
DESCRIPTION:Find Elaine at the Boskone convention\, February 17-18\, talking about everything from Magicians in Society\, to the role of dragons in YA novels! She’ll also be in the dealer’s room with WaterDragon Publishing\, to celebrate the launch of A Wreck of Dragons!
URL:https://rocinantebooks.com/event/boskone-convention-appearance/
LOCATION:Boston Westin Waterfront Hotel\, 425 Summer Street\, Boston\, MA\, 02210\, United States
CATEGORIES:Convention
END:VEVENT
BEGIN:VEVENT
DTSTART;TZID=America/New_York:20220519T183000
DTEND;TZID=America/New_York:20220519T200000
DTSTAMP:20260424T123534
CREATED:20220408T101815Z
LAST-MODIFIED:20220408T101815Z
UID:2358-1652985000-1652990400@rocinantebooks.com
SUMMARY:Drakemaster Launch Day\, New Hampshire
DESCRIPTION:Join the author for a reading and signing at the Toadstool Bookshop\, Amherst Street\, Nashua\, NH!
URL:https://rocinantebooks.com/event/drakemaster-launch-day-new-hampshire/
LOCATION:Balin Bookshop\, Nashua\, NH\, Somerset Plaza\, Rte. 101A\, Nashua\, NH\, 03063\, United States
END:VEVENT
BEGIN:VEVENT
DTSTART;VALUE=DATE:20220218
DTEND;VALUE=DATE:20220221
DTSTAMP:20260424T123534
CREATED:20220204T180305Z
LAST-MODIFIED:20220204T180305Z
UID:2342-1645142400-1645401599@rocinantebooks.com
SUMMARY:Boskone Science Fiction Convention
DESCRIPTION:Are you up for an in-person convention after so long? I  know I am!  We’ll be masked and vaxxed and ready to go!  I’m on panels all weekend\, and also part of a group reading including the amazing Esther Friesner\, and the outstanding C. S. E. Cooney!  There are also free events on Friday\, and virtual events throughout the weekend for those joining us from home!
URL:https://rocinantebooks.com/event/boskone-science-fiction-convention/
LOCATION:Boston Westin Waterfront Hotel\, 425 Summer Street\, Boston\, MA\, 02210\, United States
END:VEVENT
BEGIN:VEVENT
DTSTART;TZID=America/New_York:20211104T080000
DTEND;TZID=America/New_York:20211107T170000
DTSTAMP:20260424T123534
CREATED:20211025T171803Z
LAST-MODIFIED:20211025T171803Z
UID:2338-1636012800-1636304400@rocinantebooks.com
SUMMARY:World Fantasy Convention\, Montreal
DESCRIPTION:Are you attending World Fantasy this year?  I’ll be there! On the Friday\, I have a reading at 2 pm\, and will be on a panel at 5 pm about Writing the Medieval Fight Scene.
URL:https://rocinantebooks.com/event/world-fantasy-convention-montreal/
LOCATION:NC
END:VEVENT
BEGIN:VEVENT
DTSTART;TZID=America/New_York:20210928T190000
DTEND;TZID=America/New_York:20210928T200000
DTSTAMP:20260424T123534
CREATED:20210524T124338Z
LAST-MODIFIED:20210524T124338Z
UID:2325-1632855600-1632859200@rocinantebooks.com
SUMMARY:Ample Hills Creamery In-person Reading
DESCRIPTION:September 28th at 7 pm\, I’ll be reading with the fabulous Randee Dawn\, and the amazing C. S. E. Cooney.  Your ticket for this event includes ice cream!  Ample Hills Creamery\, Brooklyn\, NY.  What will I be reading from? Well…I’m hoping it will be my next historical fantasy novel\, which has a tentative release date next April.  Much more news to follow! In the meantime\, we do expect this event to sell out due to space limitations at the Creamery rooftop!  Here’s your link for more information and to get tickets!
URL:https://rocinantebooks.com/event/ample-hills-creamery-in-person-reading/
LOCATION:NC
CATEGORIES:Group Reading
END:VEVENT
BEGIN:VEVENT
DTSTART;TZID=America/New_York:20210909T183000
DTEND;TZID=America/New_York:20210909T200000
DTSTAMP:20260424T123534
CREATED:20210611T181758Z
LAST-MODIFIED:20210611T182934Z
UID:2333-1631212200-1631217600@rocinantebooks.com
SUMMARY:Maya Bust Book Launch!
DESCRIPTION:Come to the Toadstool Bookshop in Nashua\, NH  for a reading and signing event to celebrate the launch of The Maya Bust\, volume 4 in the Bone Guard series of archaeological thrillers!  A secret stash\, a hidden tomb\, a father’s love–written in blood!
URL:https://rocinantebooks.com/event/maya-bust-book-launch/
LOCATION:Balin Bookshop\, Nashua\, NH\, Somerset Plaza\, Rte. 101A\, Nashua\, NH\, 03063\, United States
CATEGORIES:Book Introduction,Solo Reading
END:VEVENT
BEGIN:VEVENT
DTSTART;VALUE=DATE:20210813
DTEND;VALUE=DATE:20210816
DTSTAMP:20260424T123534
CREATED:20210524T123913Z
LAST-MODIFIED:20210524T123913Z
UID:2323-1628812800-1629071999@rocinantebooks.com
SUMMARY:Readercon Virtual convention\, Aug. 13-15
DESCRIPTION:I’m excited to participate in Virtual Readercon this year\, though disappointed we’re not able to be in person just yet.  What will I be doing? I can’t tell you just yet–but the convention as a whole features amazing authors\, great readings\, and thought-provoking panels for authors and readers!  Learn more at:  http://www.readercon.org/
URL:https://rocinantebooks.com/event/readercon-virtual-convention-aug-13-15/
LOCATION:NC
CATEGORIES:Convention
END:VEVENT
BEGIN:VEVENT
DTSTART;TZID=America/New_York:20210617T170000
DTEND;TZID=America/New_York:20210617T180000
DTSTAMP:20260424T123534
CREATED:20210524T122533Z
LAST-MODIFIED:20210524T123158Z
UID:2319-1623949200-1623952800@rocinantebooks.com
SUMMARY:Strong Women\, Strange Worlds Virtual Reading
DESCRIPTION:June 17th at 5 pm\, grab a cocktail and pull up your couch for this lively reading series!  I’ll be there\, reading from The King of Next Week\, alongside some other great writers like Gillian Daniels\, Elle Ire\, and C. S. E. Cooney (who has been an inspiration in my own work!)  We’ll be live and virtual\, so you can stay comfy!  This group reading lasts about an hour\, and may include freebies!  Here’s all the details on the Strong Women/Strange Worlds site!  You will need to register\, but the event is free!
URL:https://rocinantebooks.com/event/strong-women-strange-worlds-virtual-reading/
LOCATION:NC
CATEGORIES:Group Reading
END:VEVENT
BEGIN:VEVENT
DTSTART;TZID=America/New_York:20210610T200000
DTEND;TZID=America/New_York:20210610T210000
DTSTAMP:20260424T123534
CREATED:20210524T122049Z
LAST-MODIFIED:20210524T122146Z
UID:2316-1623355200-1623358800@rocinantebooks.com
SUMMARY:Boston LitCrawl live reading!
DESCRIPTION:June 10th at 8 pm\, Join me\, alongside three other members of the BroadUniverse literary coalition as we read short excerpts from our work! We’ll be LIVE\, In Person\, on the deck at the Dial restaurant\, Boston\, Massachusetts. You will need to buy a ticket for this limited-entry event (part of the Boston LitCrawl.  Your ticket will include the reading\, plus munchies and other surprises from the host venue. Rain date is June 16th.  Get all the details here:  Boston LitCrawl website
URL:https://rocinantebooks.com/event/boston-litcrawl-live-reading/
LOCATION:NC
CATEGORIES:Group Reading
END:VEVENT
BEGIN:VEVENT
DTSTART;TZID=America/New_York:20201114T130000
DTEND;TZID=America/New_York:20201114T160000
DTSTAMP:20260424T123534
CREATED:20201101T111338Z
LAST-MODIFIED:20201101T111338Z
UID:2309-1605358800-1605369600@rocinantebooks.com
SUMMARY:Author Pop-up Sale!
DESCRIPTION:Mask up and stop by in front of the Toadstool Bookshop at Somerset Plaza\, Nashua to purchase signed books or just say ‘Hi’! We’re setting up this event outdoors\, with a relaxed timeframe to encourage social distancing\, and make sure we can stay safe\, and keep reading!  I’ll have copies of all three new books from this year:  The King of Next Week (historical fantasy novella)\, The Hearth Witch’s Son (epic fantasy novella)\, and The Assassin’s Throne (archaeological thriller).  Plus all of your favorites. It’s a great time to pick up a copy to share with a friend!
URL:https://rocinantebooks.com/event/author-pop-up-sale/
LOCATION:Balin Bookshop\, Nashua\, NH\, Somerset Plaza\, Rte. 101A\, Nashua\, NH\, 03063\, United States
CATEGORIES:Book Introduction
END:VEVENT
BEGIN:VEVENT
DTSTART;VALUE=DATE:20200606
DTEND;VALUE=DATE:20200608
DTSTAMP:20260424T123534
CREATED:20200511T150951Z
LAST-MODIFIED:20200511T150951Z
UID:2301-1591401600-1591574399@rocinantebooks.com
SUMMARY:Renaissance Press online convention
DESCRIPTION:Canadian publisher Renaissance Press hosts this fabulous first-ever event\, online! \nI’ll be speaking Sunday\, June 7\, 12:30 as part of a panel about Going Deep with Character\, alongside Sue Taylor-Davidson\, Su J Sokol\, Benoit Chartier\, Kate Heartfield\, Melissa Yuan-Innes  This is gonna be fun! \nThe convention will also have a virtual book room set up on Discord where you can chat with participating authors and find out more about their work! \nLearn  more and register here:  https://pressesrenaissancepress.ca/
URL:https://rocinantebooks.com/event/renaissance-press-online-convention/
LOCATION:NC
CATEGORIES:Convention
END:VEVENT
BEGIN:VEVENT
DTSTART;VALUE=DATE:20200522
DTEND;VALUE=DATE:20200525
DTSTAMP:20260424T123534
CREATED:20200511T150142Z
LAST-MODIFIED:20200511T150231Z
UID:2299-1590105600-1590364799@rocinantebooks.com
SUMMARY:Balticon online! Panels\, readings and more
DESCRIPTION:Virtual Balticon will take place online May 22-24th\, and I’ll be “there”! Will you join me? \nFriday\, May 22\, 7 pm :  Panel discussion\, I Read for the Worldbuilding\, with Don Sakers and Ada Palmer \nSaturday\, May 23\, 10 am\, Panel discussion: You Can’t Shop at Target in Middle Earth\, with Beth Morris Tanner\, Roberta Rogow\, and Gail Martin \nSaturday\, May 23\, 4 pm\, Panel discussion: Historical Research–Not just Words\, with D. H. Aire\, R. F. Kuang\, Melissa Scott\, and Monica Louzon \nSunday\, May 24\, 8 pm\, Live reading\, with Ryan Van Loan! \nRegister as an attendee here: https://www.balticon.org/wp54/  and it’s free!
URL:https://rocinantebooks.com/event/balticon-online-panels-readings-and-more/
LOCATION:NC
CATEGORIES:Convention
END:VEVENT
BEGIN:VEVENT
DTSTART;TZID=America/New_York:20200419T130000
DTEND;TZID=America/New_York:20200419T150000
DTSTAMP:20260424T123534
CREATED:20200303T111216Z
LAST-MODIFIED:20200303T111216Z
UID:2287-1587301200-1587308400@rocinantebooks.com
SUMMARY:The Seas of History\, with Sarah Smith!
DESCRIPTION:My historical fantasy novella\, The King of Next Week\, launches from Guardbridge Books in mid-April\, and I am thrilled to share the stage with mystery author Sarah Smith\, whose April release\, Crimes and Survivors\, takes place partially on the Titanic!  Sarah and I will talk about historical research\, adventure on the high seas\, and share excerpts from our new releases. \nWhen a Civil War veteran sails with a load of ice and returns with a Djinn wife\, his life in coastal Maine will never be the same.
URL:https://rocinantebooks.com/event/the-seas-of-history-with-sarah-smith/
LOCATION:Balin Bookshop\, Nashua\, NH\, Somerset Plaza\, Rte. 101A\, Nashua\, NH\, 03063\, United States
END:VEVENT
BEGIN:VEVENT
DTSTART;TZID=America/New_York:20200327T180000
DTEND;TZID=America/New_York:20200327T210000
DTSTAMP:20260424T123534
CREATED:20200303T110803Z
LAST-MODIFIED:20200303T110803Z
UID:2284-1585332000-1585342800@rocinantebooks.com
SUMMARY:Authors' Night at Zorvino Vineyard
DESCRIPTION:I’ll be a featured author at the Zorvino Vineyard! Join me and a number of other New England authors to find your next great read.  Thrillers? Fantasy? I’ll have it!
URL:https://rocinantebooks.com/event/authors-night-at-zorvino-vineyard/
LOCATION:Zorvino Vineyards\, 226 Main Street\, Sandown\, NH\, 03873\, United States
END:VEVENT
BEGIN:VEVENT
DTSTART;TZID=America/New_York:20191123T100000
DTEND;TZID=America/New_York:20191123T150000
DTSTAMP:20260424T123534
CREATED:20191008T193138Z
LAST-MODIFIED:20191008T193138Z
UID:2277-1574503200-1574521200@rocinantebooks.com
SUMMARY:YMCA Allard Center Craft Fair
DESCRIPTION:I’m a proud YMCA staffer–teaching rock climbing\, and leading adventure camps. This is a fundraising event for the Y’s newly inaugurated Senior Center\, to provide activities for seniors and beyond.  I’ll be there with lots of books\, and you can check out vendors who sell all sorts of craft items and specialty foods\, just in time for the holidays!
URL:https://rocinantebooks.com/event/ymca-allard-center-craft-fair/
LOCATION:YMCA Allard Center\, 166 Goffstown Back Road\, Goffstown\, NH\, 03045\, United States
END:VEVENT
BEGIN:VEVENT
DTSTART;TZID=America/New_York:20191109T100000
DTEND;TZID=America/New_York:20191109T180000
DTSTAMP:20260424T123534
CREATED:20191008T193405Z
LAST-MODIFIED:20191008T193720Z
UID:2280-1573293600-1573322400@rocinantebooks.com
SUMMARY:Book Fiend Readers Fest
DESCRIPTION:A celebration of Steampunk\, Sci-Fi\, Fantasy and Horror authors and their work.  Author signings\, meet and greet\, panels\, create your own book cover photo shoot and more! Including my books\, and those of other great New England authors like LJ Cohen and more!
URL:https://rocinantebooks.com/event/book-fiend-readers-fest/
LOCATION:Norwich Arts Center\, 60-64 Broadway\, Norwich\, NH\, 03630\, United States
END:VEVENT
BEGIN:VEVENT
DTSTART;TZID=America/New_York:20191107T183000
DTEND;TZID=America/New_York:20191107T203000
DTSTAMP:20260424T123534
CREATED:20191008T192753Z
LAST-MODIFIED:20191008T192753Z
UID:2274-1573151400-1573158600@rocinantebooks.com
SUMMARY:Local Authors Night
DESCRIPTION:Join me and other local New Hampshire writers to buy books and get them signed!  Great chance to meet new authors in all genres.
URL:https://rocinantebooks.com/event/local-authors-night/
LOCATION:Nashua Public Library\, 2 Court Street\, Nashua\, NH\, 03063\, United States
END:VEVENT
BEGIN:VEVENT
DTSTART;TZID=America/New_York:20191024T190000
DTEND;TZID=America/New_York:20191024T203000
DTSTAMP:20260424T123534
CREATED:20191008T192506Z
LAST-MODIFIED:20191008T192506Z
UID:2271-1571943600-1571949000@rocinantebooks.com
SUMMARY:Double Jeopardy: Two New Hampshire Authors in Conversation
DESCRIPTION:Join two New Hampshire authors at the Toadstool Bookshop’s new location\, Somerset Plaza\, to talk about their adventures writing thrillers and speculative fiction.  New York Times Bestseller Brendan DuBois of Exeter writes the Lewis Cole mysteries\, and has recently collaborated with James Patterson for several novels.  Nashua author E. C. Ambrose is best known for the Dark Apostle fantasy series\, but also writes the Bone Guard series of international thrillers.  The authors will discuss their recent projects and take audience questions. A booksigning will follow.
URL:https://rocinantebooks.com/event/double-jeopardy-two-new-hampshire-authors-in-conversation/
LOCATION:Balin Bookshop\, Nashua\, NH\, Somerset Plaza\, Rte. 101A\, Nashua\, NH\, 03063\, United States
END:VEVENT
BEGIN:VEVENT
DTSTART;TZID=America/New_York:20190815T080000
DTEND;TZID=America/New_York:20190819T170000
DTSTAMP:20260424T123534
CREATED:20190728T185412Z
LAST-MODIFIED:20190728T185602Z
UID:2223-1565856000-1566234000@rocinantebooks.com
SUMMARY:Worldcon in Dublin
DESCRIPTION:Find Elaine on panels and as part of the Rapid Fire Reading!
URL:https://rocinantebooks.com/event/worldcon-in-dublin/
LOCATION:NC
END:VEVENT
BEGIN:VEVENT
DTSTART;TZID=America/New_York:20190711T080000
DTEND;TZID=America/New_York:20190714T170000
DTSTAMP:20260424T123534
CREATED:20190705T134313Z
LAST-MODIFIED:20190705T134548Z
UID:2174-1562832000-1563123600@rocinantebooks.com
SUMMARY:Readercon 30
DESCRIPTION:July 11-14\, 2019 | The conference on imaginative literature\, thirtieth edition. \nBoston Marriott Quincy\, Quincy\, Massachusetts.
URL:https://rocinantebooks.com/event/readercon-30/
LOCATION:NC
END:VEVENT
END:VCALENDAR